BEGIN:VCALENDAR
PRODID:-//nuDatenautomaten//framework iCal4j //DE
VERSION:2.0
CALSCALE:GREGORIAN
BEGIN:VTIMEZONE
TZID:Europe/Berlin
LAST-MODIFIED:20260306T231828Z
TZURL:https://www.tzurl.org/zoneinfo/Europe/Berlin
X-LIC-LOCATION:Europe/Berlin
X-PROLEPTIC-TZNAME:LMT
BEGIN:STANDARD
TZNAME:CET
TZOFFSETFROM:+005328
TZOFFSETTO:+0100
DTSTART:18930401T000000
END:STANDARD
BEGIN:DAYLIGHT
TZNAME:CEST
TZOFFSETFROM:+0100
TZOFFSETTO:+0200
DTSTART:19160430T230000
RDATE:19400401T020000
RDATE:19430329T020000
RDATE:19460414T020000
RDATE:19470406T030000
RDATE:19480418T020000
RDATE:19490410T020000
RDATE:19800406T020000
END:DAYLIGHT
BEGIN:STANDARD
TZNAME:CET
TZOFFSETFROM:+0200
TZOFFSETTO:+0100
DTSTART:19161001T010000
RDATE:19421102T030000
RDATE:19431004T030000
RDATE:19441002T030000
RDATE:19451118T030000
RDATE:19461007T030000
END:STANDARD
BEGIN:DAYLIGHT
TZNAME:CEST
TZOFFSETFROM:+0100
TZOFFSETTO:+0200
DTSTART:19170416T020000
RRULE:FREQ=YEARLY;UNTIL=19180415T010000Z;BYMONTH=4;BYDAY=3MO
END:DAYLIGHT
BEGIN:STANDARD
TZNAME:CET
TZOFFSETFROM:+0200
TZOFFSETTO:+0100
DTSTART:19170917T030000
RRULE:FREQ=YEARLY;UNTIL=19180916T010000Z;BYMONTH=9;BYDAY=3MO
END:STANDARD
BEGIN:DAYLIGHT
TZNAME:CEST
TZOFFSETFROM:+0100
TZOFFSETTO:+0200
DTSTART:19440403T020000
RRULE:FREQ=YEARLY;UNTIL=19450402T010000Z;BYMONTH=4;BYDAY=1MO
END:DAYLIGHT
BEGIN:DAYLIGHT
TZNAME:CEMT
TZOFFSETFROM:+0200
TZOFFSETTO:+0300
DTSTART:19450524T020000
RDATE:19470511T030000
END:DAYLIGHT
BEGIN:DAYLIGHT
TZNAME:CEST
TZOFFSETFROM:+0300
TZOFFSETTO:+0200
DTSTART:19450924T030000
RDATE:19470629T030000
END:DAYLIGHT
BEGIN:STANDARD
TZNAME:CET
TZOFFSETFROM:+0100
TZOFFSETTO:+0100
DTSTART:19460101T000000
RDATE:19800101T000000
END:STANDARD
BEGIN:STANDARD
TZNAME:CET
TZOFFSETFROM:+0200
TZOFFSETTO:+0100
DTSTART:19471005T030000
RRULE:FREQ=YEARLY;UNTIL=19491002T010000Z;BYMONTH=10;BYDAY=1SU
END:STANDARD
BEGIN:STANDARD
TZNAME:CET
TZOFFSETFROM:+0200
TZOFFSETTO:+0100
DTSTART:19800928T030000
RRULE:FREQ=YEARLY;UNTIL=19950924T010000Z;BYMONTH=9;BYDAY=-1SU
END:STANDARD
BEGIN:DAYLIGHT
TZNAME:CEST
TZOFFSETFROM:+0100
TZOFFSETTO:+0200
DTSTART:19810329T020000
RRULE:FREQ=YEARLY;BYMONTH=3;BYDAY=-1SU
END:DAYLIGHT
BEGIN:STANDARD
TZNAME:CET
TZOFFSETFROM:+0200
TZOFFSETTO:+0100
DTSTART:19961027T030000
RRULE:FREQ=YEARLY;BYMONTH=10;BYDAY=-1SU
END:STANDARD
END:VTIMEZONE
BEGIN:VEVENT
DTSTAMP:20260419T221405Z
DTSTART;TZID=Europe/Berlin:20170302T200000
DTEND;TZID=Europe/Berlin:20170302T230000
SUMMARY:1. Kreisklasse TSV Dellstedt  vs SV Hemmingstedt  (244)
UID:83382edd-9ce7-598e-e053-1fc7a80a5d7a
STATUS:CONFIRMED
LAST-MODIFIED:20190303T213740Z
DESCRIPTION:1. Kreisklasse\nBegegnungs-Nr: 244\nHeim: TSV Dellstedt \nGast: SV Hemmingstedt \n
LOCATION:
CATEGORIES:Saison 2016/17
END:VEVENT
BEGIN:VEVENT
DTSTAMP:20260419T221405Z
DTSTART;TZID=Europe/Berlin:20170327T200000
DTEND;TZID=Europe/Berlin:20170327T230000
SUMMARY:1. Kreisklasse TSV Dellstedt  vs Marner TV II (256)
UID:83382edd-9dc9-598e-e053-1fc7a80a5d7a
STATUS:CONFIRMED
LAST-MODIFIED:20190303T213740Z
DESCRIPTION:1. Kreisklasse\nBegegnungs-Nr: 256\nHeim: TSV Dellstedt \nGast: Marner TV II\n
LOCATION:
CATEGORIES:Saison 2016/17
END:VEVENT
BEGIN:VEVENT
DTSTAMP:20260419T221405Z
DTSTART;TZID=Europe/Berlin:20170330T200000
DTEND;TZID=Europe/Berlin:20170330T230000
SUMMARY:1. Kreisklasse TSV Dellstedt  vs TTSG Welm-Wrohm-Dell II (270)
UID:83382edd-9ed0-598e-e053-1fc7a80a5d7a
STATUS:CONFIRMED
LAST-MODIFIED:20190303T213740Z
DESCRIPTION:1. Kreisklasse\nBegegnungs-Nr: 270\nHeim: TSV Dellstedt \nGast: TTSG Welm-Wrohm-Dell II\n
LOCATION:
CATEGORIES:Saison 2016/17
END:VEVENT
BEGIN:VEVENT
DTSTAMP:20260419T221405Z
DTSTART;TZID=Europe/Berlin:20170403T200000
DTEND;TZID=Europe/Berlin:20170403T230000
SUMMARY:1. Kreisklasse TSV Dellstedt  vs TSV Elpersbüttel-Eesch III (275)
UID:83382edd-9f2f-598e-e053-1fc7a80a5d7a
STATUS:CONFIRMED
LAST-MODIFIED:20190303T213740Z
DESCRIPTION:1. Kreisklasse\nBegegnungs-Nr: 275\nHeim: TSV Dellstedt \nGast: TSV Elpersbüttel-Eesch III\n
LOCATION:
CATEGORIES:Saison 2016/17
END:VEVENT
BEGIN:VEVENT
DTSTAMP:20260419T221405Z
DTSTART;TZID=Europe/Berlin:20160908T200000
DTEND;TZID=Europe/Berlin:20160908T230000
SUMMARY:1. Kreisklasse TSV Dellstedt  vs TTSG Weddingstedt/Wesseln II (103)
UID:83382edd-940a-598e-e053-1fc7a80a5d7a
STATUS:CONFIRMED
LAST-MODIFIED:20190303T213738Z
DESCRIPTION:1. Kreisklasse\nBegegnungs-Nr: 103\nHeim: TSV Dellstedt \nGast: TTSG Weddingstedt/Wesseln II\n
LOCATION:
CATEGORIES:Saison 2016/17
END:VEVENT
BEGIN:VEVENT
DTSTAMP:20260419T221405Z
DTSTART;TZID=Europe/Berlin:20160922T200000
DTEND;TZID=Europe/Berlin:20160922T230000
SUMMARY:1. Kreisklasse TSV Dellstedt  vs SSV Lunden II (116)
UID:83382edd-9503-598e-e053-1fc7a80a5d7a
STATUS:CONFIRMED
LAST-MODIFIED:20190303T213738Z
DESCRIPTION:1. Kreisklasse\nBegegnungs-Nr: 116\nHeim: TSV Dellstedt \nGast: SSV Lunden II\n
LOCATION:
CATEGORIES:Saison 2016/17
END:VEVENT
BEGIN:VEVENT
DTSTAMP:20260419T221405Z
DTSTART;TZID=Europe/Berlin:20160929T200000
DTEND;TZID=Europe/Berlin:20160929T230000
SUMMARY:1. Kreisklasse TSV Dellstedt  vs TTSG Schülp/Hemme III (121)
UID:83382edd-9567-598e-e053-1fc7a80a5d7a
STATUS:CONFIRMED
LAST-MODIFIED:20190303T213738Z
DESCRIPTION:1. Kreisklasse\nBegegnungs-Nr: 121\nHeim: TSV Dellstedt \nGast: TTSG Schülp/Hemme III\n
LOCATION:
CATEGORIES:Saison 2016/17
END:VEVENT
BEGIN:VEVENT
DTSTAMP:20260419T221405Z
DTSTART;TZID=Europe/Berlin:20161103T200000
DTEND;TZID=Europe/Berlin:20161103T230000
SUMMARY:1. Kreisklasse TSV Dellstedt  vs TSV Brunsbüttel V (138)
UID:83382edd-96ac-598e-e053-1fc7a80a5d7a
STATUS:CONFIRMED
LAST-MODIFIED:20190303T213738Z
DESCRIPTION:1. Kreisklasse\nBegegnungs-Nr: 138\nHeim: TSV Dellstedt \nGast: TSV Brunsbüttel V\n
LOCATION:
CATEGORIES:Saison 2016/17
END:VEVENT
BEGIN:VEVENT
DTSTAMP:20260419T221405Z
DTSTART;TZID=Europe/Berlin:20161117T200000
DTEND;TZID=Europe/Berlin:20161117T230000
SUMMARY:1. Kreisklasse TSV Dellstedt  vs Ostroher SC II (150)
UID:83382edd-9791-598e-e053-1fc7a80a5d7a
STATUS:CONFIRMED
LAST-MODIFIED:20190303T213738Z
DESCRIPTION:1. Kreisklasse\nBegegnungs-Nr: 150\nHeim: TSV Dellstedt \nGast: Ostroher SC II\n
LOCATION:
CATEGORIES:Saison 2016/17
END:VEVENT
BEGIN:VEVENT
DTSTAMP:20260419T221405Z
DTSTART;TZID=Europe/Berlin:20161201T200000
DTEND;TZID=Europe/Berlin:20161201T230000
SUMMARY:1. Kreisklasse TSV Dellstedt  vs Bargenstedter SC  (163)
UID:83382edd-9874-598e-e053-1fc7a80a5d7a
STATUS:CONFIRMED
LAST-MODIFIED:20190303T213739Z
DESCRIPTION:1. Kreisklasse\nBegegnungs-Nr: 163\nHeim: TSV Dellstedt \nGast: Bargenstedter SC \n
LOCATION:
CATEGORIES:Saison 2016/17
END:VEVENT
BEGIN:VEVENT
DTSTAMP:20260419T221405Z
DTSTART;TZID=Europe/Berlin:20170119T200000
DTEND;TZID=Europe/Berlin:20170119T230000
SUMMARY:1. Kreisklasse TSV Dellstedt  vs SG Offenbüttel / Albersdorf II (209)
UID:83382edd-9a3b-598e-e053-1fc7a80a5d7a
STATUS:CONFIRMED
LAST-MODIFIED:20190303T213739Z
DESCRIPTION:1. Kreisklasse\nBegegnungs-Nr: 209\nHeim: TSV Dellstedt \nGast: SG Offenbüttel / Albersdorf II\n
LOCATION:
CATEGORIES:Saison 2016/17
END:VEVENT
BEGIN:VEVENT
DTSTAMP:20260419T221405Z
DTSTART;TZID=Europe/Berlin:20170216T200000
DTEND;TZID=Europe/Berlin:20170216T230000
SUMMARY:1. Kreisklasse TSV Dellstedt  vs SSV Lunden  (232)
UID:83382edd-9c00-598e-e053-1fc7a80a5d7a
STATUS:CONFIRMED
LAST-MODIFIED:20190303T213739Z
DESCRIPTION:1. Kreisklasse\nBegegnungs-Nr: 232\nHeim: TSV Dellstedt \nGast: SSV Lunden \n
LOCATION:
CATEGORIES:Saison 2016/17
END:VEVENT
BEGIN:VEVENT
DTSTAMP:20260419T221405Z
DTSTART;TZID=Europe/Berlin:20170224T200000
DTEND;TZID=Europe/Berlin:20170224T230000
SUMMARY:1. Kreisklasse TSV Brunsbüttel V vs TSV Dellstedt  (240)
UID:83382edd-9c95-598e-e053-1fc7a80a5d7a
STATUS:CONFIRMED
LAST-MODIFIED:20190303T213740Z
DESCRIPTION:1. Kreisklasse\nBegegnungs-Nr: 240\nHeim: TSV Brunsbüttel V\nGast: TSV Dellstedt \n
LOCATION:
CATEGORIES:Saison 2016/17
END:VEVENT
BEGIN:VEVENT
DTSTAMP:20260419T221405Z
DTSTART;TZID=Europe/Berlin:20170310T200000
DTEND;TZID=Europe/Berlin:20170310T230000
SUMMARY:1. Kreisklasse Ostroher SC II vs TSV Dellstedt  (253)
UID:83382edd-9d90-598e-e053-1fc7a80a5d7a
STATUS:CONFIRMED
LAST-MODIFIED:20190303T213740Z
DESCRIPTION:1. Kreisklasse\nBegegnungs-Nr: 253\nHeim: Ostroher SC II\nGast: TSV Dellstedt \n
LOCATION:
CATEGORIES:Saison 2016/17
END:VEVENT
BEGIN:VEVENT
DTSTAMP:20260419T221405Z
DTSTART;TZID=Europe/Berlin:20170322T201500
DTEND;TZID=Europe/Berlin:20170322T231500
SUMMARY:1. Kreisklasse Bargenstedter SC  vs TSV Dellstedt  (263)
UID:83382edd-9e4d-598e-e053-1fc7a80a5d7a
STATUS:CONFIRMED
LAST-MODIFIED:20190303T213740Z
DESCRIPTION:1. Kreisklasse\nBegegnungs-Nr: 263\nHeim: Bargenstedter SC \nGast: TSV Dellstedt \n
LOCATION:
CATEGORIES:Saison 2016/17
END:VEVENT
BEGIN:VEVENT
DTSTAMP:20260419T221405Z
DTSTART;TZID=Europe/Berlin:20160915T200000
DTEND;TZID=Europe/Berlin:20160915T230000
SUMMARY:1. Kreisklasse SG Offenbüttel / Albersdorf II vs TSV Dellstedt  (110)
UID:83382edd-948e-598e-e053-1fc7a80a5d7a
STATUS:CONFIRMED
LAST-MODIFIED:20190303T213738Z
DESCRIPTION:1. Kreisklasse\nBegegnungs-Nr: 110\nHeim: SG Offenbüttel / Albersdorf II\nGast: TSV Dellstedt \n
LOCATION:
CATEGORIES:Saison 2016/17
END:VEVENT
BEGIN:VEVENT
DTSTAMP:20260419T221405Z
DTSTART;TZID=Europe/Berlin:20161010T200000
DTEND;TZID=Europe/Berlin:20161010T230000
SUMMARY:1. Kreisklasse SSV Lunden  vs TSV Dellstedt  (131)
UID:83382edd-9626-598e-e053-1fc7a80a5d7a
STATUS:CONFIRMED
LAST-MODIFIED:20190303T213738Z
DESCRIPTION:1. Kreisklasse\nBegegnungs-Nr: 131\nHeim: SSV Lunden \nGast: TSV Dellstedt \n
LOCATION:
CATEGORIES:Saison 2016/17
END:VEVENT
BEGIN:VEVENT
DTSTAMP:20260419T221405Z
DTSTART;TZID=Europe/Berlin:20161108T200000
DTEND;TZID=Europe/Berlin:20161108T230000
SUMMARY:1. Kreisklasse SV Hemmingstedt  vs TSV Dellstedt  (143)
UID:83382edd-9709-598e-e053-1fc7a80a5d7a
STATUS:CONFIRMED
LAST-MODIFIED:20190303T213738Z
DESCRIPTION:1. Kreisklasse\nBegegnungs-Nr: 143\nHeim: SV Hemmingstedt \nGast: TSV Dellstedt \n
LOCATION:
CATEGORIES:Saison 2016/17
END:VEVENT
BEGIN:VEVENT
DTSTAMP:20260419T221405Z
DTSTART;TZID=Europe/Berlin:20161121T200000
DTEND;TZID=Europe/Berlin:20161121T230000
SUMMARY:1. Kreisklasse Marner TV II vs TSV Dellstedt  (154)
UID:83382edd-97dd-598e-e053-1fc7a80a5d7a
STATUS:CONFIRMED
LAST-MODIFIED:20190303T213739Z
DESCRIPTION:1. Kreisklasse\nBegegnungs-Nr: 154\nHeim: Marner TV II\nGast: TSV Dellstedt \n
LOCATION:
CATEGORIES:Saison 2016/17
END:VEVENT
BEGIN:VEVENT
DTSTAMP:20260419T221405Z
DTSTART;TZID=Europe/Berlin:20161206T200000
DTEND;TZID=Europe/Berlin:20161206T230000
SUMMARY:1. Kreisklasse TTSG Welm-Wrohm-Dell II vs TSV Dellstedt  (168)
UID:83382edd-98d6-598e-e053-1fc7a80a5d7a
STATUS:CONFIRMED
LAST-MODIFIED:20190303T213739Z
DESCRIPTION:1. Kreisklasse\nBegegnungs-Nr: 168\nHeim: TTSG Welm-Wrohm-Dell II\nGast: TSV Dellstedt \n
LOCATION:
CATEGORIES:Saison 2016/17
END:VEVENT
BEGIN:VEVENT
DTSTAMP:20260419T221405Z
DTSTART;TZID=Europe/Berlin:20161215T200000
DTEND;TZID=Europe/Berlin:20161215T230000
SUMMARY:1. Kreisklasse TSV Elpersbüttel-Eesch III vs TSV Dellstedt  (175)
UID:83382edd-995d-598e-e053-1fc7a80a5d7a
STATUS:CONFIRMED
LAST-MODIFIED:20190303T213739Z
DESCRIPTION:1. Kreisklasse\nBegegnungs-Nr: 175\nHeim: TSV Elpersbüttel-Eesch III\nGast: TSV Dellstedt \n
LOCATION:
CATEGORIES:Saison 2016/17
END:VEVENT
BEGIN:VEVENT
DTSTAMP:20260419T221405Z
DTSTART;TZID=Europe/Berlin:20170112T201500
DTEND;TZID=Europe/Berlin:20170112T231500
SUMMARY:1. Kreisklasse TTSG Weddingstedt/Wesseln II vs TSV Dellstedt  (205)
UID:83382edd-99f3-598e-e053-1fc7a80a5d7a
STATUS:CONFIRMED
LAST-MODIFIED:20190303T213739Z
DESCRIPTION:1. Kreisklasse\nBegegnungs-Nr: 205\nHeim: TTSG Weddingstedt/Wesseln II\nGast: TSV Dellstedt \n
LOCATION:
CATEGORIES:Saison 2016/17
END:VEVENT
BEGIN:VEVENT
DTSTAMP:20260419T221405Z
DTSTART;TZID=Europe/Berlin:20170203T200000
DTEND;TZID=Europe/Berlin:20170203T230000
SUMMARY:1. Kreisklasse SSV Lunden II vs TSV Dellstedt  (212)
UID:83382edd-9a72-598e-e053-1fc7a80a5d7a
STATUS:CONFIRMED
LAST-MODIFIED:20190303T213739Z
DESCRIPTION:1. Kreisklasse\nBegegnungs-Nr: 212\nHeim: SSV Lunden II\nGast: TSV Dellstedt \n
LOCATION:
CATEGORIES:Saison 2016/17
END:VEVENT
BEGIN:VEVENT
DTSTAMP:20260419T221405Z
DTSTART;TZID=Europe/Berlin:20170124T200000
DTEND;TZID=Europe/Berlin:20170124T230000
SUMMARY:1. Kreisklasse TTSG Schülp/Hemme III vs TSV Dellstedt  (220)
UID:83382edd-9b11-598e-e053-1fc7a80a5d7a
STATUS:CONFIRMED
LAST-MODIFIED:20190303T213739Z
DESCRIPTION:1. Kreisklasse\nBegegnungs-Nr: 220\nHeim: TTSG Schülp/Hemme III\nGast: TSV Dellstedt \n
LOCATION:
CATEGORIES:Saison 2016/17
END:VEVENT
END:VCALENDAR
