BEGIN:VCALENDAR
PRODID:-//nuDatenautomaten//framework iCal4j //DE
VERSION:2.0
CALSCALE:GREGORIAN
BEGIN:VTIMEZONE
TZID:Europe/Berlin
LAST-MODIFIED:20260306T231828Z
TZURL:https://www.tzurl.org/zoneinfo/Europe/Berlin
X-LIC-LOCATION:Europe/Berlin
X-PROLEPTIC-TZNAME:LMT
BEGIN:STANDARD
TZNAME:CET
TZOFFSETFROM:+005328
TZOFFSETTO:+0100
DTSTART:18930401T000000
END:STANDARD
BEGIN:DAYLIGHT
TZNAME:CEST
TZOFFSETFROM:+0100
TZOFFSETTO:+0200
DTSTART:19160430T230000
RDATE:19400401T020000
RDATE:19430329T020000
RDATE:19460414T020000
RDATE:19470406T030000
RDATE:19480418T020000
RDATE:19490410T020000
RDATE:19800406T020000
END:DAYLIGHT
BEGIN:STANDARD
TZNAME:CET
TZOFFSETFROM:+0200
TZOFFSETTO:+0100
DTSTART:19161001T010000
RDATE:19421102T030000
RDATE:19431004T030000
RDATE:19441002T030000
RDATE:19451118T030000
RDATE:19461007T030000
END:STANDARD
BEGIN:DAYLIGHT
TZNAME:CEST
TZOFFSETFROM:+0100
TZOFFSETTO:+0200
DTSTART:19170416T020000
RRULE:FREQ=YEARLY;UNTIL=19180415T010000Z;BYMONTH=4;BYDAY=3MO
END:DAYLIGHT
BEGIN:STANDARD
TZNAME:CET
TZOFFSETFROM:+0200
TZOFFSETTO:+0100
DTSTART:19170917T030000
RRULE:FREQ=YEARLY;UNTIL=19180916T010000Z;BYMONTH=9;BYDAY=3MO
END:STANDARD
BEGIN:DAYLIGHT
TZNAME:CEST
TZOFFSETFROM:+0100
TZOFFSETTO:+0200
DTSTART:19440403T020000
RRULE:FREQ=YEARLY;UNTIL=19450402T010000Z;BYMONTH=4;BYDAY=1MO
END:DAYLIGHT
BEGIN:DAYLIGHT
TZNAME:CEMT
TZOFFSETFROM:+0200
TZOFFSETTO:+0300
DTSTART:19450524T020000
RDATE:19470511T030000
END:DAYLIGHT
BEGIN:DAYLIGHT
TZNAME:CEST
TZOFFSETFROM:+0300
TZOFFSETTO:+0200
DTSTART:19450924T030000
RDATE:19470629T030000
END:DAYLIGHT
BEGIN:STANDARD
TZNAME:CET
TZOFFSETFROM:+0100
TZOFFSETTO:+0100
DTSTART:19460101T000000
RDATE:19800101T000000
END:STANDARD
BEGIN:STANDARD
TZNAME:CET
TZOFFSETFROM:+0200
TZOFFSETTO:+0100
DTSTART:19471005T030000
RRULE:FREQ=YEARLY;UNTIL=19491002T010000Z;BYMONTH=10;BYDAY=1SU
END:STANDARD
BEGIN:STANDARD
TZNAME:CET
TZOFFSETFROM:+0200
TZOFFSETTO:+0100
DTSTART:19800928T030000
RRULE:FREQ=YEARLY;UNTIL=19950924T010000Z;BYMONTH=9;BYDAY=-1SU
END:STANDARD
BEGIN:DAYLIGHT
TZNAME:CEST
TZOFFSETFROM:+0100
TZOFFSETTO:+0200
DTSTART:19810329T020000
RRULE:FREQ=YEARLY;BYMONTH=3;BYDAY=-1SU
END:DAYLIGHT
BEGIN:STANDARD
TZNAME:CET
TZOFFSETFROM:+0200
TZOFFSETTO:+0100
DTSTART:19961027T030000
RRULE:FREQ=YEARLY;BYMONTH=10;BYDAY=-1SU
END:STANDARD
END:VTIMEZONE
BEGIN:VEVENT
DTSTAMP:20260419T223625Z
DTSTART;TZID=Europe/Berlin:20181116T201500
DTEND;TZID=Europe/Berlin:20181116T231500
SUMMARY:Kreisliga TSV Seestermüher Marsch II vs TSV Sparrieshoop  (17)
UID:8f2462ac-5554-6d7a-e053-1fc7a80a46f4
STATUS:CONFIRMED
LAST-MODIFIED:20190802T145123Z
DESCRIPTION:Damen - Kreisliga\nBegegnungs-Nr: 17\nHeim: TSV Seestermüher Marsch II\nGast: TSV Sparrieshoop \n
LOCATION:
CATEGORIES:Saison 2018/19
END:VEVENT
BEGIN:VEVENT
DTSTAMP:20260419T223625Z
DTSTART;TZID=Europe/Berlin:20181112T201500
DTEND;TZID=Europe/Berlin:20181112T231500
SUMMARY:Kreisliga TSV Seestermüher Marsch II vs TuS Appen  (22)
UID:8f2462ac-55d1-6d7a-e053-1fc7a80a46f4
STATUS:CONFIRMED
LAST-MODIFIED:20190802T145123Z
DESCRIPTION:Damen - Kreisliga\nBegegnungs-Nr: 22\nHeim: TSV Seestermüher Marsch II\nGast: TuS Appen \n
LOCATION:
CATEGORIES:Saison 2018/19
END:VEVENT
BEGIN:VEVENT
DTSTAMP:20260419T223625Z
DTSTART;TZID=Europe/Berlin:20181207T201500
DTEND;TZID=Europe/Berlin:20181207T231500
SUMMARY:Kreisliga TSV Seestermüher Marsch II vs TuS Esingen V (9)
UID:8f2462ac-56bc-6d7a-e053-1fc7a80a46f4
STATUS:CONFIRMED
LAST-MODIFIED:20190802T145123Z
DESCRIPTION:Damen - Kreisliga\nBegegnungs-Nr: 9\nHeim: TSV Seestermüher Marsch II\nGast: TuS Esingen V\n
LOCATION:
CATEGORIES:Saison 2018/19
END:VEVENT
BEGIN:VEVENT
DTSTAMP:20260419T223625Z
DTSTART;TZID=Europe/Berlin:20190208T201500
DTEND;TZID=Europe/Berlin:20190208T231500
SUMMARY:Kreisliga TSV Seestermüher Marsch II vs SV Friedrichsgabe IV (107)
UID:8f2462ac-5755-6d7a-e053-1fc7a80a46f4
STATUS:CONFIRMED
LAST-MODIFIED:20190802T145123Z
DESCRIPTION:Damen - Kreisliga\nBegegnungs-Nr: 107\nHeim: TSV Seestermüher Marsch II\nGast: SV Friedrichsgabe IV\n
LOCATION:
CATEGORIES:Saison 2018/19
END:VEVENT
BEGIN:VEVENT
DTSTAMP:20260419T223625Z
DTSTART;TZID=Europe/Berlin:20190211T201500
DTEND;TZID=Europe/Berlin:20190211T231500
SUMMARY:Kreisliga TSV Seestermüher Marsch II vs Elmshorner MTV  (115)
UID:8f2462ac-57f8-6d7a-e053-1fc7a80a46f4
STATUS:CONFIRMED
LAST-MODIFIED:20190802T145123Z
DESCRIPTION:Damen - Kreisliga\nBegegnungs-Nr: 115\nHeim: TSV Seestermüher Marsch II\nGast: Elmshorner MTV \n
LOCATION:
CATEGORIES:Saison 2018/19
END:VEVENT
BEGIN:VEVENT
DTSTAMP:20260419T223625Z
DTSTART;TZID=Europe/Berlin:20190325T201500
DTEND;TZID=Europe/Berlin:20190325T231500
SUMMARY:Kreisliga TSV Seestermüher Marsch II vs Moorreger SV  (127)
UID:8f2462ac-58dd-6d7a-e053-1fc7a80a46f4
STATUS:CONFIRMED
LAST-MODIFIED:20190802T145123Z
DESCRIPTION:Damen - Kreisliga\nBegegnungs-Nr: 127\nHeim: TSV Seestermüher Marsch II\nGast: Moorreger SV \n
LOCATION:
CATEGORIES:Saison 2018/19
END:VEVENT
BEGIN:VEVENT
DTSTAMP:20260419T223625Z
DTSTART;TZID=Europe/Berlin:20181107T200000
DTEND;TZID=Europe/Berlin:20181107T230000
SUMMARY:Kreisliga Elmshorner MTV  vs TSV Seestermüher Marsch II (14)
UID:8f2462ac-5519-6d7a-e053-1fc7a80a46f4
STATUS:CONFIRMED
LAST-MODIFIED:20190802T145122Z
DESCRIPTION:Damen - Kreisliga\nBegegnungs-Nr: 14\nHeim: Elmshorner MTV \nGast: TSV Seestermüher Marsch II\n
LOCATION:
CATEGORIES:Saison 2018/19
END:VEVENT
BEGIN:VEVENT
DTSTAMP:20260419T223625Z
DTSTART;TZID=Europe/Berlin:20181203T193000
DTEND;TZID=Europe/Berlin:20181203T223000
SUMMARY:Kreisliga Moorreger SV  vs TSV Seestermüher Marsch II (26)
UID:8f2462ac-5611-6d7a-e053-1fc7a80a46f4
STATUS:CONFIRMED
LAST-MODIFIED:20190802T145123Z
DESCRIPTION:Damen - Kreisliga\nBegegnungs-Nr: 26\nHeim: Moorreger SV \nGast: TSV Seestermüher Marsch II\n
LOCATION:
CATEGORIES:Saison 2018/19
END:VEVENT
BEGIN:VEVENT
DTSTAMP:20260419T223625Z
DTSTART;TZID=Europe/Berlin:20180929T130000
DTEND;TZID=Europe/Berlin:20180929T160000
SUMMARY:Kreisliga SV Friedrichsgabe IV vs TSV Seestermüher Marsch II (7)
UID:8f2462ac-568f-6d7a-e053-1fc7a80a46f4
STATUS:CONFIRMED
LAST-MODIFIED:20190802T145123Z
DESCRIPTION:Damen - Kreisliga\nBegegnungs-Nr: 7\nHeim: SV Friedrichsgabe IV\nGast: TSV Seestermüher Marsch II\n
LOCATION:
CATEGORIES:Saison 2018/19
END:VEVENT
BEGIN:VEVENT
DTSTAMP:20260419T223625Z
DTSTART;TZID=Europe/Berlin:20190215T201500
DTEND;TZID=Europe/Berlin:20190215T231500
SUMMARY:Kreisliga TuS Esingen V vs TSV Seestermüher Marsch II (109)
UID:8f2462ac-577f-6d7a-e053-1fc7a80a46f4
STATUS:CONFIRMED
LAST-MODIFIED:20190802T145123Z
DESCRIPTION:Damen - Kreisliga\nBegegnungs-Nr: 109\nHeim: TuS Esingen V\nGast: TSV Seestermüher Marsch II\n
LOCATION:
CATEGORIES:Saison 2018/19
END:VEVENT
BEGIN:VEVENT
DTSTAMP:20260419T223625Z
DTSTART;TZID=Europe/Berlin:20190311T201500
DTEND;TZID=Europe/Berlin:20190311T231500
SUMMARY:Kreisliga TSV Sparrieshoop  vs TSV Seestermüher Marsch II (117)
UID:8f2462ac-581e-6d7a-e053-1fc7a80a46f4
STATUS:CONFIRMED
LAST-MODIFIED:20190802T145123Z
DESCRIPTION:Damen - Kreisliga\nBegegnungs-Nr: 117\nHeim: TSV Sparrieshoop \nGast: TSV Seestermüher Marsch II\n
LOCATION:
CATEGORIES:Saison 2018/19
END:VEVENT
BEGIN:VEVENT
DTSTAMP:20260419T223625Z
DTSTART;TZID=Europe/Berlin:20190315T201500
DTEND;TZID=Europe/Berlin:20190315T231500
SUMMARY:Kreisliga TuS Appen  vs TSV Seestermüher Marsch II (121)
UID:8f2462ac-586d-6d7a-e053-1fc7a80a46f4
STATUS:CONFIRMED
LAST-MODIFIED:20190802T145123Z
DESCRIPTION:Damen - Kreisliga\nBegegnungs-Nr: 121\nHeim: TuS Appen \nGast: TSV Seestermüher Marsch II\n
LOCATION:
CATEGORIES:Saison 2018/19
END:VEVENT
BEGIN:VEVENT
DTSTAMP:20260419T223625Z
DTSTART;TZID=Europe/Berlin:20190426T201500
DTEND;TZID=Europe/Berlin:20190426T231500
SUMMARY:Kreisliga TuS Esingen IV vs TSV Seestermüher Marsch II (125)
UID:8f2462ac-58c6-6d7a-e053-1fc7a80a46f4
STATUS:CONFIRMED
LAST-MODIFIED:20190802T145123Z
DESCRIPTION:Damen - Kreisliga\nBegegnungs-Nr: 125\nHeim: TuS Esingen IV\nGast: TSV Seestermüher Marsch II\n
LOCATION:
CATEGORIES:Saison 2018/19
END:VEVENT
END:VCALENDAR
